BEGIN:VCALENDAR
VERSION:2.0
PRODID:-//Städtische Gesamtschule Iserlohn - ECPv6.15.9//NONSGML v1.0//EN
CALSCALE:GREGORIAN
METHOD:PUBLISH
X-WR-CALNAME:Städtische Gesamtschule Iserlohn
X-ORIGINAL-URL:https://gesamtschule-iserlohn.de
X-WR-CALDESC:Veranstaltungen für Städtische Gesamtschule Iserlohn
REFRESH-INTERVAL;VALUE=DURATION:PT1H
X-Robots-Tag:noindex
X-PUBLISHED-TTL:PT1H
BEGIN:VTIMEZONE
TZID:Europe/Berlin
BEGIN:DAYLIGHT
TZOFFSETFROM:+0100
TZOFFSETTO:+0200
TZNAME:CEST
DTSTART:20250330T010000
END:DAYLIGHT
BEGIN:STANDARD
TZOFFSETFROM:+0200
TZOFFSETTO:+0100
TZNAME:CET
DTSTART:20251026T010000
END:STANDARD
BEGIN:DAYLIGHT
TZOFFSETFROM:+0100
TZOFFSETTO:+0200
TZNAME:CEST
DTSTART:20260329T010000
END:DAYLIGHT
BEGIN:STANDARD
TZOFFSETFROM:+0200
TZOFFSETTO:+0100
TZNAME:CET
DTSTART:20261025T010000
END:STANDARD
BEGIN:DAYLIGHT
TZOFFSETFROM:+0100
TZOFFSETTO:+0200
TZNAME:CEST
DTSTART:20270328T010000
END:DAYLIGHT
BEGIN:STANDARD
TZOFFSETFROM:+0200
TZOFFSETTO:+0100
TZNAME:CET
DTSTART:20271031T010000
END:STANDARD
END:VTIMEZONE
BEGIN:VEVENT
DTSTART;VALUE=DATE:20260413
DTEND;VALUE=DATE:20260503
DTSTAMP:20260421T101355
CREATED:20260210T073424Z
LAST-MODIFIED:20260421T080349Z
UID:105190-1776038400-1777766399@gesamtschule-iserlohn.de
SUMMARY:Jg. 9: Betriebspraktikum
DESCRIPTION:
URL:https://gesamtschule-iserlohn.de/event/jg-9-betriebspraktikum-23/
LOCATION:Betriebe in Iserlohn und Umgebung
END:VEVENT
BEGIN:VEVENT
DTSTART;VALUE=DATE:20260420
DTEND;VALUE=DATE:20260425
DTSTAMP:20260421T101355
CREATED:20260210T073424Z
LAST-MODIFIED:20260421T080349Z
UID:105189-1776643200-1777075199@gesamtschule-iserlohn.de
SUMMARY:Jg. 7: BO-Auftaktveranstaltung „Pack‘s an“
DESCRIPTION:
URL:https://gesamtschule-iserlohn.de/event/jg-7-bo-auftaktveranstaltung-packs-an-3/
END:VEVENT
BEGIN:VEVENT
DTSTART;VALUE=DATE:20260423
DTEND;VALUE=DATE:20260424
DTSTAMP:20260421T101355
CREATED:20260210T073423Z
LAST-MODIFIED:20260421T080349Z
UID:105188-1776902400-1776988799@gesamtschule-iserlohn.de
SUMMARY:Girl‘s Day und Boy‘s Day
DESCRIPTION:
URL:https://gesamtschule-iserlohn.de/event/girls-day-und-boys-day-3/
LOCATION:Iserlohner Betriebe und Umgebung
END:VEVENT
BEGIN:VEVENT
DTSTART;TZID=Europe/Berlin:20260427T130000
DTEND;TZID=Europe/Berlin:20260427T150000
DTSTAMP:20260421T101355
CREATED:20260210T073424Z
LAST-MODIFIED:20260421T080349Z
UID:105191-1777294800-1777302000@gesamtschule-iserlohn.de
SUMMARY:Beratungskonferenzen 6\, 8\, 10 - Unterricht endet nach der 4. Stunde
DESCRIPTION:
URL:https://gesamtschule-iserlohn.de/event/beratungskonferenzen-6-8-10-unterricht-endet-nach-der-4-stunde-4/
END:VEVENT
BEGIN:VEVENT
DTSTART;TZID=Europe/Berlin:20260428T130000
DTEND;TZID=Europe/Berlin:20260428T160000
DTSTAMP:20260421T101355
CREATED:20260210T073424Z
LAST-MODIFIED:20260421T080349Z
UID:105192-1777381200-1777392000@gesamtschule-iserlohn.de
SUMMARY:Beratungskonferenzen 5\, 7\, 9\, 11 - Unterricht endet nach der 4. Stunde
DESCRIPTION:SI beginnt
URL:https://gesamtschule-iserlohn.de/event/beratungskonferenzen-5-7-9-11-unterricht-endet-nach-der-4-stunde-4/
END:VEVENT
BEGIN:VEVENT
DTSTART;TZID=Europe/Berlin:20260429T113000
DTEND;TZID=Europe/Berlin:20260429T180000
DTSTAMP:20260421T101355
CREATED:20260210T073424Z
LAST-MODIFIED:20260421T080349Z
UID:105193-1777462200-1777485600@gesamtschule-iserlohn.de
SUMMARY:Elternsprechtag-Gerlingsen: Unterrichtsende nach 2. Stunde\, Sprechzeiten 11.30-18.00 Uhr
DESCRIPTION:
URL:https://gesamtschule-iserlohn.de/event/elternsprechtag-gerlingsen-unterrichtsende-nach-2-stunde-sprechzeiten-11-30-18-00-uhr-5/
END:VEVENT
BEGIN:VEVENT
DTSTART;TZID=Europe/Berlin:20260429T130000
DTEND;TZID=Europe/Berlin:20260429T180000
DTSTAMP:20260421T101355
CREATED:20260210T073424Z
LAST-MODIFIED:20260421T080349Z
UID:105194-1777467600-1777485600@gesamtschule-iserlohn.de
SUMMARY:Elternsprechtag-Nußberg: Unterrichtsende nach 3. Stunde\, Sprechzeiten 13.00-18.00 Uhr
DESCRIPTION:
URL:https://gesamtschule-iserlohn.de/event/elternsprechtag-nussberg-unterrichtsende-nach-3-stunde-sprechzeiten-13-00-18-00-uhr-4/
END:VEVENT
BEGIN:VEVENT
DTSTART;VALUE=DATE:20260504
DTEND;VALUE=DATE:20260511
DTSTAMP:20260421T101356
CREATED:20260210T073436Z
LAST-MODIFIED:20260421T080349Z
UID:105196-1777852800-1778457599@gesamtschule-iserlohn.de
SUMMARY:Austausch mit unserer Partnerschule in Polen
DESCRIPTION:In dieser Zeit findet der Gegenbesuch in Polen (Chorzów) statt.
URL:https://gesamtschule-iserlohn.de/event/austausch-mit-unserer-partnerschule-in-polen-3/
END:VEVENT
BEGIN:VEVENT
DTSTART;TZID=Europe/Berlin:20260504T190000
DTEND;TZID=Europe/Berlin:20260504T213000
DTSTAMP:20260421T101356
CREATED:20250919T085014Z
LAST-MODIFIED:20260209T103519Z
UID:95964-1777921200-1777930200@gesamtschule-iserlohn.de
SUMMARY:Probe JazZination All Stars
DESCRIPTION:
URL:https://gesamtschule-iserlohn.de/event/probe-jazzination-all-stars-3/
LOCATION:Forum
END:VEVENT
BEGIN:VEVENT
DTSTART;TZID=Europe/Berlin:20260504T190000
DTEND;TZID=Europe/Berlin:20260504T213000
DTSTAMP:20260421T101356
CREATED:20260210T073424Z
LAST-MODIFIED:20260421T080349Z
UID:105195-1777921200-1777930200@gesamtschule-iserlohn.de
SUMMARY:Probe JazZination All Stars
DESCRIPTION:
URL:https://gesamtschule-iserlohn.de/event/probe-jazzination-all-stars-13/
LOCATION:Forum
END:VEVENT
BEGIN:VEVENT
DTSTART;VALUE=DATE:20260505
DTEND;VALUE=DATE:20260506
DTSTAMP:20260421T101356
CREATED:20260210T073436Z
LAST-MODIFIED:20260421T080349Z
UID:105197-1777939200-1778025599@gesamtschule-iserlohn.de
SUMMARY:Beginn Nachprüfungen Abitur
DESCRIPTION:
URL:https://gesamtschule-iserlohn.de/event/beginn-nachpruefungen-abitur-3/
END:VEVENT
BEGIN:VEVENT
DTSTART;TZID=Europe/Berlin:20260513T090000
DTEND;TZID=Europe/Berlin:20260513T130000
DTSTAMP:20260421T101356
CREATED:20260210T073437Z
LAST-MODIFIED:20260421T080402Z
UID:105198-1778662800-1778677200@gesamtschule-iserlohn.de
SUMMARY:Zentrale Prüfungen Deutsch 10
DESCRIPTION:
URL:https://gesamtschule-iserlohn.de/event/zentrale-pruefungen-deutsch-10-3/
END:VEVENT
BEGIN:VEVENT
DTSTART;VALUE=DATE:20260515
DTEND;VALUE=DATE:20260516
DTSTAMP:20260421T101356
CREATED:20260210T073437Z
LAST-MODIFIED:20260421T080402Z
UID:105199-1778803200-1778889599@gesamtschule-iserlohn.de
SUMMARY:Beweglicher Ferientag
DESCRIPTION:
URL:https://gesamtschule-iserlohn.de/event/beweglicher-ferientag-9/
END:VEVENT
BEGIN:VEVENT
DTSTART;TZID=Europe/Berlin:20260519T090000
DTEND;TZID=Europe/Berlin:20260519T130000
DTSTAMP:20260421T101356
CREATED:20260210T073437Z
LAST-MODIFIED:20260421T080402Z
UID:105200-1779181200-1779195600@gesamtschule-iserlohn.de
SUMMARY:Zentrale Prüfungen Englisch 10
DESCRIPTION:
URL:https://gesamtschule-iserlohn.de/event/zentrale-pruefungen-englisch-10-3/
END:VEVENT
BEGIN:VEVENT
DTSTART;TZID=Europe/Berlin:20260519T140000
DTEND;TZID=Europe/Berlin:20260519T150000
DTSTAMP:20260421T101356
CREATED:20260210T073437Z
LAST-MODIFIED:20260421T080402Z
UID:105201-1779199200-1779202800@gesamtschule-iserlohn.de
SUMMARY:FPA mündliches Abitur 4. Fach
DESCRIPTION:
URL:https://gesamtschule-iserlohn.de/event/fpa-muendliches-abitur-4-fach-3/
END:VEVENT
BEGIN:VEVENT
DTSTART;TZID=Europe/Berlin:20260521T170000
DTEND;TZID=Europe/Berlin:20260521T200000
DTSTAMP:20260421T101356
CREATED:20260210T073437Z
LAST-MODIFIED:20260421T080402Z
UID:105202-1779382800-1779393600@gesamtschule-iserlohn.de
SUMMARY:Jg. 8: Tag der Berufe am Hemberg
DESCRIPTION:
URL:https://gesamtschule-iserlohn.de/event/jg-8-tag-der-berufe-am-hemberg-3/
LOCATION:Realschule Hemberg
END:VEVENT
BEGIN:VEVENT
DTSTART;TZID=Europe/Berlin:20260528T090000
DTEND;TZID=Europe/Berlin:20260528T130000
DTSTAMP:20260421T101356
CREATED:20260210T073437Z
LAST-MODIFIED:20260421T080402Z
UID:105203-1779958800-1779973200@gesamtschule-iserlohn.de
SUMMARY:Zentrale Prüfungen Mathematik 10
DESCRIPTION:
URL:https://gesamtschule-iserlohn.de/event/zentrale-pruefungen-mathematik-10-3/
END:VEVENT
BEGIN:VEVENT
DTSTART;TZID=Europe/Berlin:20260528T170000
DTEND;TZID=Europe/Berlin:20260528T190000
DTSTAMP:20260421T101356
CREATED:20260210T073437Z
LAST-MODIFIED:20260421T080402Z
UID:105204-1779987600-1779994800@gesamtschule-iserlohn.de
SUMMARY:Kulturabend 7/8
DESCRIPTION:
URL:https://gesamtschule-iserlohn.de/event/kulturabend-7-8-3/
END:VEVENT
BEGIN:VEVENT
DTSTART;TZID=Europe/Berlin:20260529T080000
DTEND;TZID=Europe/Berlin:20260529T093000
DTSTAMP:20260421T101356
CREATED:20260210T073451Z
LAST-MODIFIED:20260421T080402Z
UID:105205-1780041600-1780047000@gesamtschule-iserlohn.de
SUMMARY:Zentrale Klausur Deutsch EF
DESCRIPTION:
URL:https://gesamtschule-iserlohn.de/event/zentrale-klausur-deutsch-ef-4/
END:VEVENT
BEGIN:VEVENT
DTSTART;VALUE=DATE:20260601
DTEND;VALUE=DATE:20260602
DTSTAMP:20260421T101356
CREATED:20260210T073451Z
LAST-MODIFIED:20260421T080402Z
UID:105206-1780272000-1780358399@gesamtschule-iserlohn.de
SUMMARY:Jg. 8: Berufsfelderkundung 2
DESCRIPTION:
URL:https://gesamtschule-iserlohn.de/event/jg-8-berufsfelderkundung-2-3/
LOCATION:Betriebe in Iserlohn und Umgebung
END:VEVENT
BEGIN:VEVENT
DTSTART;VALUE=DATE:20260601
DTEND;VALUE=DATE:20260602
DTSTAMP:20260421T101356
CREATED:20260210T073451Z
LAST-MODIFIED:20260421T080402Z
UID:105208-1780272000-1780358399@gesamtschule-iserlohn.de
SUMMARY:mündliches Abitur 4. Fach - unterrichtsfrei für Schülerinnen und Schüler der Jahrgangsstufen 5-12
DESCRIPTION:
URL:https://gesamtschule-iserlohn.de/event/muendliches-abitur-4-fach-6/
END:VEVENT
BEGIN:VEVENT
DTSTART;TZID=Europe/Berlin:20260601T190000
DTEND;TZID=Europe/Berlin:20260601T213000
DTSTAMP:20260421T101356
CREATED:20260210T073451Z
LAST-MODIFIED:20260421T080414Z
UID:105207-1780340400-1780349400@gesamtschule-iserlohn.de
SUMMARY:Probe JazZination All Stars
DESCRIPTION:
URL:https://gesamtschule-iserlohn.de/event/probe-jazzination-all-stars-14/
LOCATION:Forum
END:VEVENT
BEGIN:VEVENT
DTSTART;TZID=Europe/Berlin:20260602T133000
DTEND;TZID=Europe/Berlin:20260602T163000
DTSTAMP:20260421T101356
CREATED:20260210T073451Z
LAST-MODIFIED:20260421T080414Z
UID:105209-1780407000-1780417800@gesamtschule-iserlohn.de
SUMMARY:Mündliches Abitur 4. Fach
DESCRIPTION:
URL:https://gesamtschule-iserlohn.de/event/muendliches-abitur-4-fach-7/
END:VEVENT
BEGIN:VEVENT
DTSTART;TZID=Europe/Berlin:20260603T080000
DTEND;TZID=Europe/Berlin:20260603T093000
DTSTAMP:20260421T101356
CREATED:20260210T073451Z
LAST-MODIFIED:20260421T080414Z
UID:105210-1780473600-1780479000@gesamtschule-iserlohn.de
SUMMARY:Zentrale Klausur Mathe EF
DESCRIPTION:
URL:https://gesamtschule-iserlohn.de/event/zentrale-klausur-mathe-ef-4/
END:VEVENT
BEGIN:VEVENT
DTSTART;VALUE=DATE:20260605
DTEND;VALUE=DATE:20260606
DTSTAMP:20260421T101356
CREATED:20260210T073451Z
LAST-MODIFIED:20260421T080414Z
UID:105211-1780617600-1780703999@gesamtschule-iserlohn.de
SUMMARY:Beweglicher Ferientag
DESCRIPTION:
URL:https://gesamtschule-iserlohn.de/event/beweglicher-ferientag-10/
END:VEVENT
BEGIN:VEVENT
DTSTART;TZID=Europe/Berlin:20260611T193000
DTEND;TZID=Europe/Berlin:20260611T210000
DTSTAMP:20260421T101356
CREATED:20260209T123542Z
LAST-MODIFIED:20260210T064956Z
UID:104994-1781206200-1781211600@gesamtschule-iserlohn.de
SUMMARY:Aufführung Literaturkurs Q1
DESCRIPTION:
URL:https://gesamtschule-iserlohn.de/event/auffuehrung-literaturkurs-q1-5/
LOCATION:Aula im Neubau
END:VEVENT
BEGIN:VEVENT
DTSTART;TZID=Europe/Berlin:20260611T193000
DTEND;TZID=Europe/Berlin:20260611T210000
DTSTAMP:20260421T101356
CREATED:20260217T091956Z
LAST-MODIFIED:20260421T080414Z
UID:105626-1781206200-1781211600@gesamtschule-iserlohn.de
SUMMARY:Aufführung Literaturkurs Q1
DESCRIPTION:
URL:https://gesamtschule-iserlohn.de/event/auffuehrung-literaturkurs-q1-8/
LOCATION:Aula im Neubau
END:VEVENT
BEGIN:VEVENT
DTSTART;TZID=Europe/Berlin:20260612T193000
DTEND;TZID=Europe/Berlin:20260612T210000
DTSTAMP:20260421T101356
CREATED:20260210T073451Z
LAST-MODIFIED:20260421T080414Z
UID:105212-1781292600-1781298000@gesamtschule-iserlohn.de
SUMMARY:Aufführung Literaturkurs Q1
DESCRIPTION:
URL:https://gesamtschule-iserlohn.de/event/auffuehrung-literaturkurs-q1-7/
LOCATION:Aula (Neubau)
END:VEVENT
BEGIN:VEVENT
DTSTART;TZID=Europe/Berlin:20260616T080500
DTEND;TZID=Europe/Berlin:20260616T101000
DTSTAMP:20260421T101356
CREATED:20260210T073451Z
LAST-MODIFIED:20260421T080414Z
UID:105213-1781597100-1781604600@gesamtschule-iserlohn.de
SUMMARY:Bekanntgabe der Vor- und Prüfungsnoten ZP 10
DESCRIPTION:
URL:https://gesamtschule-iserlohn.de/event/bekanntgabe-der-vor-und-pruefungsnoten-zp-10-3/
END:VEVENT
BEGIN:VEVENT
DTSTART;TZID=Europe/Berlin:20260617T130000
DTEND;TZID=Europe/Berlin:20260617T150000
DTSTAMP:20260421T101356
CREATED:20260210T073503Z
LAST-MODIFIED:20260421T080414Z
UID:105214-1781701200-1781708400@gesamtschule-iserlohn.de
SUMMARY:SV-Sitzung
DESCRIPTION:Genaue Uhrzeit wird noch festgelegt!
URL:https://gesamtschule-iserlohn.de/event/sv-sitzung-5/
LOCATION:Forum Altbau BF314
END:VEVENT
END:VCALENDAR